BEGIN:VCALENDAR
VERSION:2.0
PRODID:-//pretix//pretix.eu//
BEGIN:VEVENT
UID:pretix-heise-BCCAPI2026V-0@tickets.heise-events.de
DTSTART;VALUE=DATE:20260512
DTEND;VALUE=DATE:20260522
DESCRIPTION:Tickets: https://tickets.heise-events.de/BCCAPI2026V/\nVeransta
 lter: Heise Medien GmbH & Co. KG
DTSTAMP:20260423T152053Z
LOCATION:Online
SUMMARY:betterCode() API 2026
END:VEVENT
END:VCALENDAR
