BEGIN:VCALENDAR
VERSION:2.0
PRODID:-//pretix//pretix.eu//
BEGIN:VEVENT
UID:pretix-heise-BCCARCHDOC2026-0@tickets.heise-events.de
DTSTART;VALUE=DATE:20260520
DTEND;VALUE=DATE:20260521
DESCRIPTION:Tickets: https://tickets.heise-events.de/BCCARCHDOC2026/\nVeran
 stalter: Heise Medien GmbH & Co. KG
DTSTAMP:20260425T153149Z
LOCATION:Online
SUMMARY:betterCode() ArchDoc 2026
END:VEVENT
END:VCALENDAR
