BEGIN:VCALENDAR
VERSION:2.0
PRODID:-//pretix//pretix.eu//
BEGIN:VEVENT
UID:pretix-heise-BCCSPRING2026-0@tickets.heise-events.de
DTSTART;VALUE=DATE:20260427
DTEND;VALUE=DATE:20260428
DESCRIPTION:Tickets: https://tickets.heise-events.de/BCCSPRING2026/\nVerans
 talter: Heise Medien GmbH & Co. KG
DTSTAMP:20260420T164811Z
LOCATION:Online
SUMMARY:betterCode() Spring 2026
END:VEVENT
END:VCALENDAR
