BEGIN:VCALENDAR
VERSION:2.0
PRODID:-//pretix//pretix.eu//
BEGIN:VTIMEZONE
TZID:Europe/Berlin
BEGIN:STANDARD
DTSTART:20001029T040000
RRULE:FREQ=YEARLY;BYDAY=-1SU;BYMONTH=10
TZNAME:CET
TZOFFSETFROM:+0200
TZOFFSETTO:+0100
END:STANDARD
BEGIN:DAYLIGHT
DTSTART:20000326T030000
RRULE:FREQ=YEARLY;BYDAY=-1SU;BYMONTH=3
TZNAME:CEST
TZOFFSETFROM:+0100
TZOFFSETTO:+0200
END:DAYLIGHT
END:VTIMEZONE
BEGIN:VEVENT
UID:pretix-heise-ITTag-4-0@tickets.heise-events.de
DTSTART;TZID=Europe/Berlin:20250520T120000
DTEND;TZID=Europe/Berlin:20250520T170000
DESCRIPTION:Tickets: https://tickets.heise-events.de/ITTag-4/\nVeranstalter
 : Heise Medien GmbH & Co. KG
DTSTAMP:20260424T113949Z
LOCATION:Mediencampus Villa Ida\, Poetenweg 28\, 04155 Leipzig
SUMMARY:heise jobs IT Tag Leipzig
END:VEVENT
END:VCALENDAR
