BEGIN:VCALENDAR
VERSION:2.0
PRODID:-//pretix//pretix.eu//
BEGIN:VTIMEZONE
TZID:Europe/Berlin
BEGIN:STANDARD
DTSTART:20001029T040000
RRULE:FREQ=YEARLY;BYDAY=-1SU;BYMONTH=10
TZNAME:CET
TZOFFSETFROM:+0200
TZOFFSETTO:+0100
END:STANDARD
BEGIN:DAYLIGHT
DTSTART:20000326T030000
RRULE:FREQ=YEARLY;BYDAY=-1SU;BYMONTH=3
TZNAME:CEST
TZOFFSETFROM:+0100
TZOFFSETTO:+0200
END:DAYLIGHT
END:VTIMEZONE
BEGIN:VEVENT
UID:pretix-heise-aws1023-0@tickets.heise-events.de
DTSTART;TZID=Europe/Berlin:20231026T090000
DTEND;TZID=Europe/Berlin:20231130T130000
DESCRIPTION:Tickets: https://tickets.heise-events.de/aws1023/\nVeranstalter
 : Heise Medien GmbH & Co. KG
DTSTAMP:20260422T124546Z
LOCATION:online
SUMMARY:Webinar-Serie: AWS im professionellen Einsatz – Cloud-Computing v
 erstehen und meistern
END:VEVENT
END:VCALENDAR
