BEGIN:VCALENDAR
VERSION:2.0
PRODID:-//pretix//pretix.eu//
BEGIN:VEVENT
UID:pretix-heise-devsecGenAI2026-0@tickets.heise-events.de
DTSTART;VALUE=DATE:20260511
DTEND;VALUE=DATE:20260512
DESCRIPTION:Tickets: https://tickets.heise-events.de/devsecGenAI2026/\nVera
 nstalter: Heise Medien GmbH & Co. KG
DTSTAMP:20260423T150318Z
LOCATION:Online
SUMMARY:heise devSec 2026 - KI und Security
END:VEVENT
END:VCALENDAR
