BEGIN:VCALENDAR
VERSION:2.0
PRODID:-//pretix//pretix.eu//
BEGIN:VTIMEZONE
TZID:Europe/Berlin
BEGIN:STANDARD
DTSTART:20001029T040000
RRULE:FREQ=YEARLY;BYDAY=-1SU;BYMONTH=10
TZNAME:CET
TZOFFSETFROM:+0200
TZOFFSETTO:+0100
END:STANDARD
BEGIN:DAYLIGHT
DTSTART:20000326T030000
RRULE:FREQ=YEARLY;BYDAY=-1SU;BYMONTH=3
TZNAME:CEST
TZOFFSETFROM:+0100
TZOFFSETTO:+0200
END:DAYLIGHT
END:VTIMEZONE
BEGIN:VEVENT
UID:pretix-heise-elasticstack-0922-0@tickets.heise-events.de
DTSTART;TZID=Europe/Berlin:20220905T090000
DTEND;TZID=Europe/Berlin:20220905T170000
DESCRIPTION:Tickets: https://tickets.heise-events.de/elasticstack-0922/\nVe
 ranstalter: Heise Medien GmbH & Co. KG
DTSTAMP:20260421T105227Z
LOCATION:online
SUMMARY:Absage: Elastic Stack Fundamentals: Daten sammeln\, analysieren un
 d visualisieren 12.-14.09.2022
END:VEVENT
END:VCALENDAR
