BEGIN:VCALENDAR
VERSION:2.0
PRODID:-//pretix//pretix.eu//
BEGIN:VTIMEZONE
TZID:Europe/Berlin
BEGIN:STANDARD
DTSTART:20001029T040000
RRULE:FREQ=YEARLY;BYDAY=-1SU;BYMONTH=10
TZNAME:CET
TZOFFSETFROM:+0200
TZOFFSETTO:+0100
END:STANDARD
BEGIN:DAYLIGHT
DTSTART:20000326T030000
RRULE:FREQ=YEARLY;BYDAY=-1SU;BYMONTH=3
TZNAME:CEST
TZOFFSETFROM:+0100
TZOFFSETTO:+0200
END:DAYLIGHT
END:VTIMEZONE
BEGIN:VEVENT
UID:pretix-heise-horizons26-0@tickets.heise-events.de
DTSTART;TZID=Europe/Berlin:20260908T090000
DTEND;TZID=Europe/Berlin:20260908T100000
DESCRIPTION:Tickets: https://tickets.heise-events.de/horizons26/\nEinlass: 
 08.09.2026 08:30\nVeranstalter: Heise Medien GmbH & Co. KG
DTSTAMP:20260422T121051Z
LOCATION:Altes Rathaus Hannover\, Karmarschstraße 42\, 30159 Hannover
SUMMARY:Horizons by heise #26
END:VEVENT
END:VCALENDAR
