BEGIN:VCALENDAR
VERSION:2.0
PRODID:-//pretix//pretix.eu//
BEGIN:VEVENT
UID:pretix-heise-hybridwork-0@tickets.heise-events.de
DTSTART;VALUE=DATE:20220119
DTEND;VALUE=DATE:20220120
DESCRIPTION:Tickets: https://tickets.heise-events.de/hybridwork/\nVeranstal
 ter: Heise Medien GmbH & Co. KG
DTSTAMP:20260423T185304Z
LOCATION:online
SUMMARY:Webinar-Serie: Hybrides Arbeiten mit Microsoft Teams
END:VEVENT
END:VCALENDAR
