BEGIN:VCALENDAR
VERSION:2.0
PRODID:-//pretix//pretix.eu//
BEGIN:VTIMEZONE
TZID:Europe/Berlin
BEGIN:STANDARD
DTSTART:20001029T040000
RRULE:FREQ=YEARLY;BYDAY=-1SU;BYMONTH=10
TZNAME:CET
TZOFFSETFROM:+0200
TZOFFSETTO:+0100
END:STANDARD
BEGIN:DAYLIGHT
DTSTART:20000326T030000
RRULE:FREQ=YEARLY;BYDAY=-1SU;BYMONTH=3
TZNAME:CEST
TZOFFSETFROM:+0100
TZOFFSETTO:+0200
END:DAYLIGHT
END:VTIMEZONE
BEGIN:VEVENT
UID:pretix-heise-ki-pro-1225-0@tickets.heise-events.de
DTSTART;TZID=Europe/Berlin:20251209T160000
DTEND;TZID=Europe/Berlin:20251209T170000
DESCRIPTION:Tickets: https://tickets.heise-events.de/ki-pro-1225/\nVeransta
 lter: Heise Medien GmbH & Co. KG
DTSTAMP:20260423T092522Z
LOCATION:online
SUMMARY:KI-Lösungen in der EU - Wie Sie KI in Europa betreiben können
END:VEVENT
END:VCALENDAR
