BEGIN:VCALENDAR
VERSION:2.0
PRODID:-//pretix//pretix.eu//
BEGIN:VEVENT
UID:pretix-heise-log4j-0@tickets.heise-events.de
DTSTART;VALUE=DATE:20211220
DTEND;VALUE=DATE:20211221
DESCRIPTION:Tickets: https://tickets.heise-events.de/log4j/\nVeranstalter: 
 Heise Medien GmbH & Co. KG
DTSTAMP:20260424T024026Z
LOCATION:online
SUMMARY:Die Log4j-Lücke - der Praxis-Ratgeber für Admins
END:VEVENT
END:VCALENDAR
