BEGIN:VCALENDAR
VERSION:2.0
PRODID:-//pretix//pretix.eu//
BEGIN:VEVENT
UID:pretix-heise-secIT-win10-0@tickets.heise-events.de
DTSTART;VALUE=DATE:20201208
DTEND;VALUE=DATE:20201209
DESCRIPTION:Tickets: https://tickets.heise-events.de/secIT-win10/\nVeransta
 lter: Heise Medien GmbH & Co. KG
DTSTAMP:20260420T083711Z
LOCATION:Online
SUMMARY:Sicherheit von Windows 10 im Unternehmen
END:VEVENT
END:VCALENDAR
