BEGIN:VCALENDAR
VERSION:2.0
PRODID:-//pretix//pretix.eu//
BEGIN:VEVENT
UID:pretix-heise-secIT20-0@tickets.heise-events.de
DTSTART;VALUE=DATE:20201208
DTEND;VALUE=DATE:20201209
DESCRIPTION:Tickets: https://tickets.heise-events.de/secIT20/\nEinlass: 25.
 03.2020 08:00\nVeranstalter: Heise Medien GmbH & Co. KG
DTSTAMP:20260420T031314Z
LOCATION:online
SUMMARY:Security Seminare - secIT by Heise 2020
END:VEVENT
END:VCALENDAR
