BEGIN:VCALENDAR
VERSION:2.0
PRODID:-//pretix//pretix.eu//
BEGIN:VEVENT
UID:pretix-heise-secITdigi-0@tickets.heise-events.de
DTSTART;VALUE=DATE:20210223
DTEND;VALUE=DATE:20210226
DESCRIPTION:Tickets: https://tickets.heise-events.de/secITdigi/\nVeranstalt
 er: Heise Medien GmbH & Co. KG
DTSTAMP:20260421T104656Z
LOCATION:online
SUMMARY:secIT 2021 DIGITAL
END:VEVENT
END:VCALENDAR
