BEGIN:VCALENDAR
VERSION:2.0
PRODID:-//pretix//pretix.eu//
BEGIN:VEVENT
UID:pretix-heise-secitdigital26-0@tickets.heise-events.de
DTSTART;VALUE=DATE:20260929
DTEND;VALUE=DATE:20261001
DESCRIPTION:Tickets: https://tickets.heise-events.de/secitdigital26/\nVeran
 stalter: Heise Medien GmbH & Co. KG
DTSTAMP:20260423T150528Z
LOCATION:online
SUMMARY:secIT digital 2026
END:VEVENT
END:VCALENDAR
