BEGIN:VCALENDAR
VERSION:2.0
PRODID:-//pretix//pretix.eu//
BEGIN:VTIMEZONE
TZID:Europe/Berlin
BEGIN:STANDARD
DTSTART:20001029T040000
RRULE:FREQ=YEARLY;BYDAY=-1SU;BYMONTH=10
TZNAME:CET
TZOFFSETFROM:+0200
TZOFFSETTO:+0100
END:STANDARD
BEGIN:DAYLIGHT
DTSTART:20000326T030000
RRULE:FREQ=YEARLY;BYDAY=-1SU;BYMONTH=3
TZNAME:CEST
TZOFFSETFROM:+0100
TZOFFSETTO:+0200
END:DAYLIGHT
END:VTIMEZONE
BEGIN:VEVENT
UID:pretix-heise-vm-ware-04-24-0@tickets.heise-events.de
DTSTART;TZID=Europe/Berlin:20240423T100000
DTEND;TZID=Europe/Berlin:20240423T150000
DESCRIPTION:Tickets: https://tickets.heise-events.de/vm-ware-04-24/\nVerans
 talter: Heise Medien GmbH & Co. KG
DTSTAMP:20260422T103442Z
LOCATION:online
SUMMARY:Umbau bei VMware: Strategien und Alternativen für Nutzer
END:VEVENT
END:VCALENDAR
